BEGIN:VCALENDAR
VERSION:2.0
PRODID:-//Via Connects - ECPv6.15.17//NONSGML v1.0//EN
CALSCALE:GREGORIAN
METHOD:PUBLISH
X-WR-CALNAME:Via Connects
X-ORIGINAL-URL:https://viaconnects.org
X-WR-CALDESC:Events for Via Connects
REFRESH-INTERVAL;VALUE=DURATION:PT1H
X-Robots-Tag:noindex
X-PUBLISHED-TTL:PT1H
BEGIN:VTIMEZONE
TZID:America/New_York
BEGIN:DAYLIGHT
TZOFFSETFROM:-0500
TZOFFSETTO:-0400
TZNAME:EDT
DTSTART:20220313T070000
END:DAYLIGHT
BEGIN:STANDARD
TZOFFSETFROM:-0400
TZOFFSETTO:-0500
TZNAME:EST
DTSTART:20221106T060000
END:STANDARD
BEGIN:DAYLIGHT
TZOFFSETFROM:-0500
TZOFFSETTO:-0400
TZNAME:EDT
DTSTART:20230312T070000
END:DAYLIGHT
BEGIN:STANDARD
TZOFFSETFROM:-0400
TZOFFSETTO:-0500
TZNAME:EST
DTSTART:20231105T060000
END:STANDARD
BEGIN:DAYLIGHT
TZOFFSETFROM:-0500
TZOFFSETTO:-0400
TZNAME:EDT
DTSTART:20240310T070000
END:DAYLIGHT
BEGIN:STANDARD
TZOFFSETFROM:-0400
TZOFFSETTO:-0500
TZNAME:EST
DTSTART:20241103T060000
END:STANDARD
BEGIN:DAYLIGHT
TZOFFSETFROM:-0500
TZOFFSETTO:-0400
TZNAME:EDT
DTSTART:20250309T070000
END:DAYLIGHT
BEGIN:STANDARD
TZOFFSETFROM:-0400
TZOFFSETTO:-0500
TZNAME:EST
DTSTART:20251102T060000
END:STANDARD
END:VTIMEZONE
BEGIN:VEVENT
DTSTART;TZID=America/New_York:20241016T171500
DTEND;TZID=America/New_York:20241016T183000
DTSTAMP:20260419T085813
CREATED:20240825T225644Z
LAST-MODIFIED:20240922T183707Z
UID:3968-1729098900-1729103400@viaconnects.org
SUMMARY:VIA Entrepreneurs Network October
DESCRIPTION:October is brewing with opportunity! \nJoin us for the VIA Entrepreneurs Network meeting at Biron Tea on October 16\, 2024\, 5:15 – 6:30pm\nLocation: 1615 Reynolds St\, Brunswick\, GA 31520\n \nTopic will be: Limited Funding – Funding Your Business: 3 Things Every Woman Entrepreneur Needs to Know. Gain valuable insights on navigating our local funding landscape. Connect with fellow women entrepreneurs over a warm cuppa and build lasting relationships. \nOur VIA Entrepreneurs Network meets on the 3rd Wednesday of every month\, September-May\, unless otherwise indicated\, from 5:15-6:30 p.m.\nBring $5 dollars to help our hostess or a bottle of wine.  \n#VIAEntrepreneursNetwork #WomenInBusiness #CommunityMatters #VIAConnectsUs
URL:https://viaconnects.org/event/via-entrepreneurs-network-october/
LOCATION:Biron Teas\, 1615 Reynolds Street\, Brunswick\, GA\, 31520\, United States
ATTACH;FMTTYPE=image/jpeg:https://viaconnects.org/wp-content/uploads/2024/08/Inspire-Circle-3Q2.jpg
ORGANIZER;CN="VIA Connects":MAILTO:info@viaconnects.org
END:VEVENT
BEGIN:VEVENT
DTSTART;TZID=America/New_York:20241005T110000
DTEND;TZID=America/New_York:20241005T123000
DTSTAMP:20260419T085813
CREATED:20240920T231612Z
LAST-MODIFIED:20241004T142329Z
UID:4020-1728126000-1728131400@viaconnects.org
SUMMARY:Make Peace with Food - Wellness Workshop
DESCRIPTION:Join our October VIA Wellness Workshop with Cassie DeFeo.\n\n\n.\n\n\nIt’s time for you to make peace with food. Avoiding “Bad Foods” won’t fix your food cravings.\n\n\nMost women\, when dieting\, will unknowingly cause their own food cravings by avoiding the foods they LOVE.\n\n\nWhen you restrict the foods that you love\, it simply heightens your focus on them and your desire for them. Instead start focusing on how to make peace with food\, and learning to cope with your emotions.\n\n\nThe holidays are quickly approaching and for some that may be causing you to worry. Eating a meal and spending time with family and friends shouldn’t be stressful.\n\n\n.\n\n\nCassie DeFeo is a Registered Dietitian/Nutritionist (RDN/LDN) and Licensed Professional Counselor (LPC). After completing her Master’s Degree in education and working in community based counseling programs\, Cassie began to understand the importance of nutrition and wellness and its impact on mental health. At which time\, she returned to school to obtain a BS in Nutrition and Food Science\, going on to complete her RD through internship. This experience has allowed her the opportunity to work with a diverse group of people in both outpatient and inpatient settings. Cassie believes in a person centered\, holistic approach when helping others with depression\, anxiety\, trauma and life’s challenges. In her free time\, Cassie enjoys spending time with husband and pups\, riding bikes\, relaxing on the beach and of course anything that has to do with food.
URL:https://viaconnects.org/event/wellness-workshop/
LOCATION:Radiant Counseling\, 513 Gloucester Street\, Downtown Brunswick\, Brunswick\, GA\, 31520\, United States
CATEGORIES:Wellness Workshop
ATTACH;FMTTYPE=image/jpeg:https://viaconnects.org/wp-content/uploads/2024/09/Wellness-Workshop-Canceled.jpg
ORGANIZER;CN="VIA Connects":MAILTO:info@viaconnects.org
END:VEVENT
BEGIN:VEVENT
DTSTART;TZID=America/New_York:20240920T080000
DTEND;TZID=America/New_York:20240920T170000
DTSTAMP:20260419T085813
CREATED:20240920T231709Z
LAST-MODIFIED:20240920T231808Z
UID:4023-1726819200-1726851600@viaconnects.org
SUMMARY:
DESCRIPTION:Join our October VIA Wellness Workshop with Cassie DeFeo.\n\n\n.\n\n\nIt’s time for you to make peace with food. Avoiding “Bad Foods” won’t fix your food cravings.\n\n\nMost women\, when dieting\, will unknowingly cause their own food cravings by avoiding the foods they LOVE.\n\n\nWhen you restrict the foods that you love\, it simply heightens your focus on them and your desire for them. Instead start focusing on how to make peace with food\, and learning to cope with your emotions.\n\n\nThe holidays are quickly approaching and for some that may be causing you to worry. Eating a meal and spending time with family and friends shouldn’t be stressful.\n\n\n.\n\n\nCassie DeFeo is a Registered Dietitian/Nutritionist (RDN/LDN) and Licensed Professional Counselor (LPC). After completing her Master’s Degree in education and working in community based counseling programs\, Cassie began to understand the importance of nutrition and wellness and its impact on mental health. At which time\, she returned to school to obtain a BS in Nutrition and Food Science\, going on to complete her RD through internship. This experience has allowed her the opportunity to work with a diverse group of people in both outpatient and inpatient settings. Cassie believes in a person centered\, holistic approach when helping others with depression\, anxiety\, trauma and life’s challenges. In her free time\, Cassie enjoys spending time with husband and pups\, riding bikes\, relaxing on the beach and of course anything that has to do with food.
URL:https://viaconnects.org/event/4023/
LOCATION:GA
END:VEVENT
BEGIN:VEVENT
DTSTART;TZID=America/New_York:20240918T171500
DTEND;TZID=America/New_York:20240918T183000
DTSTAMP:20260419T085813
CREATED:20240825T224831Z
LAST-MODIFIED:20240825T224831Z
UID:3965-1726679700-1726684200@viaconnects.org
SUMMARY:VIA Entrepreneurs Network September
DESCRIPTION:Calling all women entrepreneurs & business owners! \nReady to connect\, grow\, and thrive?\nJoin us and our host Kathy Brooks for the VIA Entrepreneurs Network meeting on Sept 18th at Makers BQK! \nLearn how VIA empowers women in our community from our CEO\, Anne Goodstein then join an inspiring discussion on how WE can support women’s success. Network with like-minded women\, share your wins & challenges\, and get valuable referrals! \nOur VIA Entrepreneurs Network meets on the 3rd Wednesday of every month\, September-May\, unless otherwise indicated\, from 5:15-6:30 p.m.\nBring $5 dollars to help our hostess or a bottle of wine.  \n#VIAEntrepreneursNetwork #WomenInBusiness #CommunityMatters #VIAConnectsUs
URL:https://viaconnects.org/event/via-entrepreneurs-network-september/
LOCATION:Makers\, 1214 Newcastle Street\, Brunswick\, GA\, 31520\, United States
ATTACH;FMTTYPE=image/jpeg:https://viaconnects.org/wp-content/uploads/2024/08/Inspire-Circle-3Q.jpg
ORGANIZER;CN="VIA Connects":MAILTO:info@viaconnects.org
END:VEVENT
BEGIN:VEVENT
DTSTART;TZID=America/New_York:20240515T170000
DTEND;TZID=America/New_York:20240515T180000
DTSTAMP:20260419T085813
CREATED:20240331T180333Z
LAST-MODIFIED:20240424T230213Z
UID:3899-1715792400-1715796000@viaconnects.org
SUMMARY:Entrepreneurs Circles May
DESCRIPTION:Experience the uplifting power of women coming together!  \nEvery 3rd Wednesday\, we meet to foster authentic connections\, share our stories\, forge meaningful relationships\, and engage with inspiring speakers who elevate our lives\, careers\, and entrepreneurial journeys\, or deepen our understanding of our community.
URL:https://viaconnects.org/event/entrepreneurs-circles-may/
LOCATION:Makers\, 1214 Newcastle Street\, Brunswick\, GA\, 31520\, United States
ATTACH;FMTTYPE=image/jpeg:https://viaconnects.org/wp-content/uploads/2024/03/Inspire-Circle-Date5.jpg
ORGANIZER;CN="VIA Connects":MAILTO:info@viaconnects.org
END:VEVENT
BEGIN:VEVENT
DTSTART;TZID=America/New_York:20240409T173000
DTEND;TZID=America/New_York:20240409T190000
DTSTAMP:20260419T085813
CREATED:20231217T190229Z
LAST-MODIFIED:20240331T193005Z
UID:3246-1712683800-1712689200@viaconnects.org
SUMMARY:Executive Circle Series
DESCRIPTION:This workshop series is designed to equip professionals\, leaders\, and entrepreneurs with practical tools to enhance their effectiveness and success. \nThis is a unique chance to enhance your leadership and strategic skills. Join Ande Noktes for interactive sessions and build a network of high-caliber professionals\, propelling your success in a condensed\, impactful format. Elevate your executive skills with VIA Collective Inc. \n\nAnde Noktes is the Founding Executive Director of The Lucas Center for Entrepreneurship. Ande is a vision and impact-driven leader committed to positive social change. She advises startups and entrepreneurial executives\, serves as a board member\, and has completed her doctorate in law and policy with research on women entrepreneurs’ access to capital.
URL:https://viaconnects.org/event/executive-circle-series/
LOCATION:Makers\, 1214 Newcastle Street\, Brunswick\, GA\, 31520\, United States
ATTACH;FMTTYPE=image/jpeg:https://viaconnects.org/wp-content/uploads/2023/12/Workshop-Dates2.jpg
ORGANIZER;CN="VIA Connects":MAILTO:info@viaconnects.org
END:VEVENT
BEGIN:VEVENT
DTSTART;TZID=America/New_York:20240320T170000
DTEND;TZID=America/New_York:20240320T180000
DTSTAMP:20260419T085813
CREATED:20231217T183512Z
LAST-MODIFIED:20231217T184351Z
UID:3237-1710954000-1710957600@viaconnects.org
SUMMARY:Entrepreneurs Circle March
DESCRIPTION:Experience the uplifting power of women coming together!  \nEvery 3rd Wednesday\, we meet to foster authentic connections\, share our stories\, forge meaningful relationships\, and engage with inspiring speakers who elevate our lives\, careers\, entrepreneurial journeys\, or deepen our understanding of our community.
URL:https://viaconnects.org/event/entrepreneurs-circle-march/
LOCATION:Makers\, 1214 Newcastle Street\, Brunswick\, GA\, 31520\, United States
ATTACH;FMTTYPE=image/jpeg:https://viaconnects.org/wp-content/uploads/2023/12/Inspire-Circle-Date3.jpg
ORGANIZER;CN="VIA Connects":MAILTO:info@viaconnects.org
END:VEVENT
BEGIN:VEVENT
DTSTART;TZID=America/New_York:20240316T093000
DTEND;TZID=America/New_York:20240316T110000
DTSTAMP:20260419T085813
CREATED:20231217T194319Z
LAST-MODIFIED:20240219T214137Z
UID:3260-1710581400-1710586800@viaconnects.org
SUMMARY:Wellness Circle: Blossom
DESCRIPTION:Nurturing oneself is a beautiful journey\, and in this wellness circle\, we will explore various self-care practices for personal growth and well-being. \nLet’s embracing the power of self-care and bloom into our best selves.. \nAll are welcome\, regardless of experience.\nBring your mat and blanket\, if you have one. \nSaturday March 16th\, 9:30-11 am\nBalance Wellness Yoga Studio\, 1604 Newcastle St\, Brunswick\nSpace is limited. Registration is requested here on the Balance Wellness Studio website.\nIf you have never been to Balance\, come early\,  you will need to sign a waiver.  \nAnne teaches at Balance Yoga Studio and is E-RYT. Anne’s welcoming and uplifting classes invite you to flow with ease\, breathe\, stretch\, balance\, and soften. Anne is also the Founding CEO of VIA Collective Inc\, organizer of VIA Connects\, VIA Womxn of the Year Awards Celebration\, and VIA Entrepreneurs Circles.
URL:https://viaconnects.org/event/wellness-circle-blossom/
LOCATION:Balance Wellness Yoga Studio\, 1604 Newcastle Street\, Brunswick\, GA\, 31520\, United States
ATTACH;FMTTYPE=image/jpeg:https://viaconnects.org/wp-content/uploads/2023/12/Wellness-Circle-Date2.jpg
END:VEVENT
BEGIN:VEVENT
DTSTART;TZID=America/New_York:20240309T093000
DTEND;TZID=America/New_York:20240309T160000
DTSTAMP:20260419T085813
CREATED:20231029T201646Z
LAST-MODIFIED:20240310T225038Z
UID:2881-1709976600-1710000000@viaconnects.org
SUMMARY:VIA Connects 2024
DESCRIPTION:Event Location:\nLocation: 208 Gloucester Street\, Downtown Brunswick
URL:https://viaconnects.org/event/via-connects-2024/
LOCATION:Marshes of Glynn Libraries\, 208 Gloucester Street\, Brunswick\, GA\, 31520\, United States
ORGANIZER;CN="VIA Connects":MAILTO:info@viaconnects.org
END:VEVENT
BEGIN:VEVENT
DTSTART;TZID=America/New_York:20240221T170000
DTEND;TZID=America/New_York:20240221T180000
DTSTAMP:20260419T085813
CREATED:20230805T200028Z
LAST-MODIFIED:20231217T183107Z
UID:2395-1708534800-1708538400@viaconnects.org
SUMMARY:Entrepreneurs Circle February
DESCRIPTION:Experience the uplifting power of women coming together!  \nEvery 3rd Wednesday\, we meet to foster authentic connections\, share our stories\, forge meaningful relationships\, and engage with inspiring speakers who elevate our lives\, careers\, entrepreneurial journeys\, or deepen our understanding of our community.
URL:https://viaconnects.org/event/entrepreneurs-circle-oct/
LOCATION:Makers\, 1214 Newcastle Street\, Brunswick\, GA\, 31520\, United States
CATEGORIES:Circles
ATTACH;FMTTYPE=image/jpeg:https://viaconnects.org/wp-content/uploads/2023/08/Inspire-Circle-Date2.jpg
ORGANIZER;CN="VIA Connects":MAILTO:info@viaconnects.org
END:VEVENT
BEGIN:VEVENT
DTSTART;TZID=America/New_York:20240120T093000
DTEND;TZID=America/New_York:20240120T110000
DTSTAMP:20260419T085813
CREATED:20231217T191247Z
LAST-MODIFIED:20231217T195414Z
UID:3254-1705743000-1705748400@viaconnects.org
SUMMARY:Wellness Circle: Reset. Radiate.
DESCRIPTION:Join Anne this January for a rejuvenating experience\, a chance to press pause and reset\, an opportunity to embrace the magic of new beginnings. \nWe will unveil your mantra for 2024 and set positive affirmations that will support your journey throughout the year. \nAll levels are welcome in this beginner-friendly space.\nBring your mat and blanket\, if you have one. \nSaturday January 20th\, 9:30-11 am\nBalance Wellness Yoga Studio\, 1604 Newcastle St\, Brunswick\nSpace is limited. Registration is requested.\nIf you have never been to Balance\, come early\,  you will need to sign a waiver.  \nAnne teaches at Balance Yoga Studio and is E-RYT. Anne’s welcoming and uplifting classes invite you to flow with ease\, breathe\, stretch\, balance\, and soften. Anne is also the Founding CEO of VIA Collective Inc\, organizer of VIA Connects\, VIA Womxn of the Year Awards Celebration\, and VIA Entrepreneurs Circles.
URL:https://viaconnects.org/event/wellness-circle-reset-radiate/
LOCATION:Balance Wellness Yoga Studio\, 1604 Newcastle Street\, Brunswick\, GA\, 31520\, United States
ATTACH;FMTTYPE=image/jpeg:https://viaconnects.org/wp-content/uploads/2023/12/Wellness-Circle-Date.jpg
ORGANIZER;CN="VIA Connects":MAILTO:info@viaconnects.org
END:VEVENT
BEGIN:VEVENT
DTSTART;TZID=America/New_York:20240117T170000
DTEND;TZID=America/New_York:20240117T180000
DTSTAMP:20260419T085813
CREATED:20230723T205756Z
LAST-MODIFIED:20240113T194656Z
UID:2385-1705510800-1705514400@viaconnects.org
SUMMARY:Entrepreneurs Circle January
DESCRIPTION:Experience the uplifting power of women coming together! \nEvery 3rd Wednesday\, we meet to foster authentic connections\, share our stories\, forge meaningful relationships\, and engage with inspiring speakers who elevate our lives\, careers\, entrepreneurial journeys\, or deepen our understanding of our community. \n 
URL:https://viaconnects.org/event/inspire-circle/
LOCATION:Silver Bluff\, 1325 Newcastle St\, Brunswick\, 31520\, United States
CATEGORIES:Circles
ATTACH;FMTTYPE=image/jpeg:https://viaconnects.org/wp-content/uploads/2023/07/Entrepreneur-Circle-CHANGE.jpg
ORGANIZER;CN="VIA Connects":MAILTO:info@viaconnects.org
END:VEVENT
BEGIN:VEVENT
DTSTART;TZID=America/New_York:20231113T180000
DTEND;TZID=America/New_York:20231113T200000
DTSTAMP:20260419T085813
CREATED:20230420T204923Z
LAST-MODIFIED:20231107T123538Z
UID:1948-1699898400-1699905600@viaconnects.org
SUMMARY:Womxn of the Year 2023
DESCRIPTION:Honoring the Brilliance of Womxn \nThe Womxn of the Year 2023 Awards will recognize the dynamic impact of 5 local womxn who are making a positive difference challenging stereotypes and promoting a comprehensive\, diverse understanding and appreciation for what it means to be successful and influential. \nFind the Program here. \nOur goal is to inspire womxn of all ages and backgrounds to see the tremendous value of their work to create a cohesive\, supportive community. \nDate: November 13th\, 2023\nLocation: Stembler Theatre\, College of Coastal Georgia Campus\, One College Drive\, Brunswick \nThe event is free but the space is limited.\nGet your ticket today to enter our exclusive RAFFLE!!\nHours are set in EDT. All information are subject to change.
URL:https://viaconnects.org/event/womxn-of-the-year/
LOCATION:Stembler Theatre\, 1 College Dr\, Brunswick\, GA\, 31520\, United States
ATTACH;FMTTYPE=image/jpeg:https://viaconnects.org/wp-content/uploads/2023/08/WOTY-Cover-Photo.jpg
ORGANIZER;CN="VIA Connects":MAILTO:info@viaconnects.org
END:VEVENT
BEGIN:VEVENT
DTSTART;TZID=America/New_York:20230930T093000
DTEND;TZID=America/New_York:20230930T110000
DTSTAMP:20260419T085813
CREATED:20230916T171924Z
LAST-MODIFIED:20230923T211619Z
UID:2617-1696066200-1696071600@viaconnects.org
SUMMARY:Wellness Circle: Meditation in Motion
DESCRIPTION:Join Laura and Anne to a Meditation in Motion with Live Drums session. \nWe will harvest the soothing embrace of the full moon\, flowing into a realm of serenity\, basked by the vibrations of Laura’s drum. \nThe flow is beginners friendly \nSaturday September 30th\, 9:30-11 am \nBalance Wellness Yoga Studio\, 1604 Newcastle St\, Brunswick\nSpace is limited. Registration is requested\, sign up here: Balancessi.com \nWe invite you on a journey of Calm and Connection:  \n\n Heart-flame guided meditation by Laura\n Slow gentle flow by Anne\, gently weaving movement and breath\, the rhythmic beats of live drums gently leading us to a state of deep grounding and peace that rejuvenates the mind and body.\n The journey will culminate in a silent supine meditation\, inviting you to bask in the serene energy of silence.\n\nLaura Waters teaches communication and public speaking courses at Coastal Pines Technical College. She is also a Creative Guide and Recovery Coach at her inspired business\, An Artful Recovery. \nAnne teaches at Balance Yoga Studio and is E-RYT. Anne’s welcoming and uplifting classes invite you to flow with ease\, breathe\, stretch\, balance\, and soften. Anne is also the Founding CEO of VIA Collective Inc\, organizer of VIA Connects\, VIA Womxn of the Year Awards Celebration\, and VIA Entrepreneurs Circles. \n#MeditationInMotion #VIAConnectsus #LiveDrumsJourney #BalanceYogaSanctuary #FlowWithTheMoon #NurtureYourSoul \n 
URL:https://viaconnects.org/event/wellness-event-meditation-in-motion/
LOCATION:Balance Wellness Yoga Studio\, 1604 Newcastle Street\, Brunswick\, GA\, 31520\, United States
ATTACH;FMTTYPE=image/jpeg:https://viaconnects.org/wp-content/uploads/2023/09/376055996_645555941011611_6827428330349733118_n.jpg
ORGANIZER;CN="VIA Connects":MAILTO:info@viaconnects.org
END:VEVENT
BEGIN:VEVENT
DTSTART;TZID=America/New_York:20230325T083000
DTEND;TZID=America/New_York:20230325T163000
DTSTAMP:20260419T085813
CREATED:20230110T163751Z
LAST-MODIFIED:20230207T202642Z
UID:617-1679733000-1679761800@viaconnects.org
SUMMARY:VIA Connects 2023
DESCRIPTION:An enriching personal\, professional\, and collective experience. Hear powerful stories to inspire you and fuel your entrepreneurial spirit.
URL:https://viaconnects.org/event/via-connects-2023/
LOCATION:Marshes of Glynn Libraries\, 208 Gloucester Street\, Brunswick\, GA\, 31520\, United States
END:VEVENT
END:VCALENDAR